BEGIN:VCALENDAR
VERSION:2.0
PRODID:-//ETKİNLİK DENİZLİ - ECPv5.14.1//NONSGML v1.0//EN
CALSCALE:GREGORIAN
METHOD:PUBLISH
X-WR-CALNAME:ETKİNLİK DENİZLİ
X-ORIGINAL-URL:https://etkinlikdenizli.com
X-WR-CALDESC:ETKİNLİK DENİZLİ için etkinlikler
BEGIN:VTIMEZONE
TZID:Europe/Istanbul
BEGIN:STANDARD
TZOFFSETFROM:+0300
TZOFFSETTO:+0300
TZNAME:+03
DTSTART:20190101T000000
END:STANDARD
END:VTIMEZONE
BEGIN:VEVENT
DTSTART;VALUE=DATE:20190416
DTEND;VALUE=DATE:20190420
DTSTAMP:20260420T194225
CREATED:20190414T203553Z
LAST-MODIFIED:20190414T203553Z
UID:4725-1555372800-1555718399@etkinlikdenizli.com
SUMMARY:2019 PAÜ Bahar Şenlikleri / Pera - Hey! Dougles - Ufuk Beydemir - Aga B Konserleri
DESCRIPTION:2019 PAMUKKALE ÜNİVERSİTESİ BAHAR ŞENLİKLERİ PERA – HEY! DOUGLES – UFUK BEYDEMİR – AGA B KONSERLERİ\n\nPamukkale Üniversitesi Bahar Şenlikleri bu yıl dolu dolu geliyor. “16 Nisan Salı günü 15:30’da kortej yürüyüşü ile başlayacak Denizli Büyükşehir Belediyesi Mehteran Takımı gösterisi ve ardından PAÜ Bahar Koşusu ile devam edecek. PAÜ Bahar Etkinlikleri 2019\, gün boyu sürecek DJ performansları\, çeşitli oyun aktiviteleri\, PAÜ öğrenci topluluklarının düzenlediği çeşitli etkinlikler ve ünlü sanatçıların sahne alacağı konserler ile dört gün boyunca devam edecek.” Etkinlik takvimine aşağıdan ulaşabilirsiniz.  \nEtkinlik Takvimi Ön Özeti (Akşam / Etkinlikleri):\n17 Nisan Çarşamba:\n16:45 – Tablo\n17:45 – Anlamsız Kaçışlar\n18:45 – Check-in\n19:45 – Multiplayer\n20:45 – Pop-Up\n22:00 – PERA\n18 Nisan Perşembe:\n19:10 – Dans Topluluğu Gösterisi\n19:35 – Dj Ferhat Ateş\n20:35 – Siyah-Bardcode Dance Camp-Negru\n21:33 – Dans Topluluğu Gösterisi\n21:40 – AGA B\n22:25 – Barcode Dance Camp\n22:30 – HEY! DOUGLES\n23:45 – Barcode Dance Camp\n19 Nisan Cuma: \n16:45 – Ankarga\n17:45 – F.E.B\n18:45 – Eski Kafa\n19:45 – Paralizm\n20:45 – Tekil-A\n22:00 – UFUK BEYDEMİR\n \n\n    \n\n\n\n\nÖne Çıkan Parçalarını Dinlemek İsterseniz; Pera Youtube | Ufuk Beydemir Youtube |Aga B Youtube | Hey! Dougles Youtube \nFacebook Etkinlik Linki: Pamukkale Üniversitesi 2019 Bahar Şenlikleri \nBilet Fiyatı: Ücretsizdir.  \nGüncel Etkinlik Takviminden Haberdar Olmak İçin Facebook’ta Bizi Takip Edin.
URL:https://etkinlikdenizli.com/etkinlik/2019-pau-bahar-senlikleri-pera-hey-dougles-ufuk-beydemir-aga-b-konserleri/
LOCATION:Pamukkale Üniversitesi\, Denizli Pamukkale Üniversitesi Kongre ve Kültür Merkezi
CATEGORIES:Festival,Konser
ATTACH;FMTTYPE=image/jpeg:https://etkinlikdenizli.com/wp-content/uploads/2019/04/56377170_2227895390796348_7812507664172187648_n-Kopya.jpg
END:VEVENT
END:VCALENDAR