BEGIN:VCALENDAR
VERSION:2.0
PRODID:-//ETKİNLİK DENİZLİ - ECPv5.14.1//NONSGML v1.0//EN
CALSCALE:GREGORIAN
METHOD:PUBLISH
X-WR-CALNAME:ETKİNLİK DENİZLİ
X-ORIGINAL-URL:https://etkinlikdenizli.com
X-WR-CALDESC:ETKİNLİK DENİZLİ için etkinlikler
BEGIN:VTIMEZONE
TZID:Europe/Istanbul
BEGIN:STANDARD
TZOFFSETFROM:+0300
TZOFFSETTO:+0300
TZNAME:+03
DTSTART:20190101T000000
END:STANDARD
END:VTIMEZONE
BEGIN:VEVENT
DTSTART;VALUE=DATE:20190830
DTEND;VALUE=DATE:20190831
DTSTAMP:20260421T132921
CREATED:20190827T190423Z
LAST-MODIFIED:20190827T190423Z
UID:5019-1567123200-1567209599@etkinlikdenizli.com
SUMMARY:30 Ağustos Zafer Bayramı - Melek Mosso Konseri
DESCRIPTION:MERKEZEFENDİ K.M. – MELEK MOSSO KONSERİ \n \n2015 yılında Katıldığı O Ses Türkiye yarışması ile hayatımıza giren\, akabinde cover parçalarıyla Youtube üzerinden yayınlanmaya başlayan akustik performanslarıyla geniş kitlelere ulaşan Melek Mosso\, vursalar ölmem\, umrumda değil\, hiç ışık yok\, arzular arsız\, kedi\, bana yalan söylediler gibi şarkılarıyla Denizli’ye geliyor.  \nMerkezefendi Belediyesi 30 Ağustos Zafer Bayramı etkinlikleri kapsamında ücretsiz gerçekleştirilecek olan konser\, Merkezefendi Kültür Merkezi yani Açık Otoparkında saat 22.00’de… Etkinlik ücretsizdir.  \nMüzisyenin Öne Çıkan Parçalarını Dinlemek İsterseniz; MELEK MOSSO Youtube  \nFacebook Etkinlik Linki: Denizli – Melek Mosso Konseri \nEtkinliğin Sosyal Medya Hesapları: Melek Mosso Resmi Twitter Hesabı  \nBilet Fiyatı:  \nÜCRETSİZDİR. \n\n\n\n \nGüncel Etkinlik Takviminden Haberdar Olmak İçin Facebook’ta Bizi Takip Edin.
URL:https://etkinlikdenizli.com/etkinlik/30-agustos-zafer-bayrami-melek-mosso-konseri/
LOCATION:Merkezefendi Kültür Merkezi\, Merkez Efendi\, Fesleğen Sk.\, 20010 Merkezefendi/Denizli\, Denizli\, 20100\, Türkiye
CATEGORIES:Konser,Merkezefendi Kültür Merkezi
ATTACH;FMTTYPE=image/jpeg:https://etkinlikdenizli.com/wp-content/uploads/2018/03/mosso.jpg
END:VEVENT
END:VCALENDAR