BEGIN:VCALENDAR
VERSION:2.0
PRODID:-//ETKİNLİK DENİZLİ - ECPv5.14.1//NONSGML v1.0//EN
CALSCALE:GREGORIAN
METHOD:PUBLISH
X-WR-CALNAME:ETKİNLİK DENİZLİ
X-ORIGINAL-URL:https://etkinlikdenizli.com
X-WR-CALDESC:ETKİNLİK DENİZLİ için etkinlikler
BEGIN:VTIMEZONE
TZID:Europe/Istanbul
BEGIN:STANDARD
TZOFFSETFROM:+0300
TZOFFSETTO:+0300
TZNAME:+03
DTSTART:20190101T000000
END:STANDARD
END:VTIMEZONE
BEGIN:VEVENT
DTSTART;VALUE=DATE:20190923
DTEND;VALUE=DATE:20190924
DTSTAMP:20260419T164724
CREATED:20190801T173015Z
LAST-MODIFIED:20190908T193523Z
UID:4950-1569196800-1569283199@etkinlikdenizli.com
SUMMARY:Açık Hava Tiyatrosu – Ajda Pekkan Konseri / 23.09.2019
DESCRIPTION:AÇIK HAVA TİYATROSU – DENİZLİ AJDA PEKKAN KONSERİ \n \nSüperstar\, Diva lakaplarıyla anılan\, aslında sinema oyunculuğu ile sanat dünyasına giren ancak 1964 yılından itibaren 45likleriyle ve sonraki yıllarda albümleriyle dikkatleri üzerine çekmeyi başaran\, günümüze kadar yüzlerce şarkıya yorum katan ve katmaya devam eden Ajda Pekkan\, affetmem seni\, alışmak sevmekten zor\, aşka inanma\, aynen öyle\, baksana talihe\, boşvermişim dünyaya gibi şarkılarıyla Denizli’ye geliyor. 23 Eylül 2019 pazatesi akşamı Açık Hava Tiyatrosu sahnesinde gerçekleştirilecek konser saat 21.00’de… \nMüzisyenin Öne Çıkan Parçalarını Dinlemek İsterseniz; Ajda Pekkan Youtube  \nFacebook Etkinlik Linki: Açık Hava Tiyatrosu – Ajda Pekkan Konseri  \nEtkinliğin Sosyal Medya Hesapları: Ajda Pekkan Resmi Twitter Hesabı  \nBilet Fiyatı: BiletX Satış Fiyatları aşağıdaki gibidir. \n\n1. Kategori – 333.00 TL\n2. Kategori – 277.50 TL\n3. Kategori – 252.00 TL\n4. Kategori – 224.00 TL\n5. Kategori – 196.00 TL\n6. Kategori – 168.00 TL\n7. Kategori – 140.00 TL\n8. Kategori – 113.00 TL\n9. Kategori – 101.75 TL\n10. Kategori – 90.50 TL\n\nDiğer Satış Noktaları; TAÇEV (ÇINAR) – LOQQUM (TERAS PARK ALTI) – KAFKA KİTAP KAFE (KAMPÜS)/ BİLGİ İÇİN: 0555 059 61 50 \n\n\n\n \nGüncel Etkinlik Takviminden Haberdar Olmak İçin Facebook’ta Bizi Takip Edin.
URL:https://etkinlikdenizli.com/etkinlik/acik-hava-tiyatrosu-ajda-pekkan-konseri-23-09-2019/
LOCATION:Açık Hava Tiyatrosu\, Milli Egemenlik Parkı\, Denizli Merkez/Denizli\, Türkiye
CATEGORIES:Açık Hava Tiyatrosu,Konser
ATTACH;FMTTYPE=image/jpeg:https://etkinlikdenizli.com/wp-content/uploads/2019/08/raw_ajda-pekkandan-20-yillik-sozlesme_351684041.jpg
END:VEVENT
END:VCALENDAR