BEGIN:VCALENDAR
VERSION:2.0
PRODID:-//ETKİNLİK DENİZLİ - ECPv5.14.1//NONSGML v1.0//EN
CALSCALE:GREGORIAN
METHOD:PUBLISH
X-WR-CALNAME:ETKİNLİK DENİZLİ
X-ORIGINAL-URL:https://etkinlikdenizli.com
X-WR-CALDESC:ETKİNLİK DENİZLİ için etkinlikler
BEGIN:VTIMEZONE
TZID:Europe/Istanbul
BEGIN:STANDARD
TZOFFSETFROM:+0300
TZOFFSETTO:+0300
TZNAME:+03
DTSTART:20190101T000000
END:STANDARD
END:VTIMEZONE
BEGIN:VEVENT
DTSTART;VALUE=DATE:20190717
DTEND;VALUE=DATE:20190718
DTSTAMP:20260420T135115
CREATED:20190710T190310Z
LAST-MODIFIED:20190710T190310Z
UID:4846-1563321600-1563407999@etkinlikdenizli.com
SUMMARY:Açık Hava Tiyatrosu – Ayhan Sicimoğlu & Latin All Stars / 17.07.2019
DESCRIPTION:AÇIK HAVA TİYATROSU – DENİZLİ AYHAN SİCİMOĞLU & LATİN ALL STARS\n \n“Ülke sınırlarını aşan müzik ve şovlarıyla Ayhan Sicimoğlu & Latin All Stars sizlerle… Bolero’lar\, salsa’lar\, caca’lar ve özel sürprizlerle müziğe doyamayacağiniz harika bir gece sizleri bekliyor.” 17 Temmuz 2019 çarşamba akşamı Açık Hava Tiyatrosu sahnesinde gerçekleştirilecek olan konser saat 21.00’de… \nMüzisyenin Öne Çıkan Parçalarını Dinlemek İsterseniz; Ayhan Sicimoğlu Latin All Stars Youtube  \nFacebook Etkinlik Linki: Açık Hava Tiyatrosu – Ayhan Sicimoğlu Latin All Stars   \nEtkinliğin Sosyal Medya Hesapları: Ayhan Sicimoğlu Resmi Twitter Hesabı  \nBilet Fiyatı: BiletX Satış Fiyatları aşağıdaki gibidir. \n\n1. Kategori – 90.50 TL\n2. Kategori – 79.00 TL\n3. Kategori – 67.50 TL\n4. Kategori – 56.50 TL\n\nDiğer Satış Noktaları; Taçev (Çınar) / Loqqum Kafe (Teras Park Altı)  / Bilgi İçin: 0555 059 61 50  \n\n\n\n \nGüncel Etkinlik Takviminden Haberdar Olmak İçin Facebook’ta Bizi Takip Edin.
URL:https://etkinlikdenizli.com/etkinlik/acik-hava-tiyatrosu-ayhan-sicimoglu-latin-all-stars-17-07-2019/
LOCATION:Açık Hava Tiyatrosu\, Milli Egemenlik Parkı\, Denizli Merkez/Denizli\, Türkiye
CATEGORIES:Açık Hava Tiyatrosu,Gösteri,Konser
ATTACH;FMTTYPE=image/jpeg:https://etkinlikdenizli.com/wp-content/uploads/2019/07/ayhan-sicimoglu-latin-all-stars-moi-sahne-de1462888040-1000.jpeg
END:VEVENT
END:VCALENDAR