BEGIN:VCALENDAR
VERSION:2.0
PRODID:-//ETKİNLİK DENİZLİ - ECPv5.14.1//NONSGML v1.0//EN
CALSCALE:GREGORIAN
METHOD:PUBLISH
X-WR-CALNAME:ETKİNLİK DENİZLİ
X-ORIGINAL-URL:https://etkinlikdenizli.com
X-WR-CALDESC:ETKİNLİK DENİZLİ için etkinlikler
BEGIN:VTIMEZONE
TZID:Europe/Istanbul
BEGIN:STANDARD
TZOFFSETFROM:+0300
TZOFFSETTO:+0300
TZNAME:+03
DTSTART:20190101T000000
END:STANDARD
END:VTIMEZONE
BEGIN:VEVENT
DTSTART;VALUE=DATE:20190529
DTEND;VALUE=DATE:20190530
DTSTAMP:20260419T174759
CREATED:20190427T194928Z
LAST-MODIFIED:20190728T182728Z
UID:4778-1559088000-1559174399@etkinlikdenizli.com
SUMMARY:Açık Hava Tiyatrosu - Bir Delinin Hatıra Defteri / ERTELENDİ
DESCRIPTION:AÇIK HAVA TİYATROSU – BİR DELİNİN HATIRA DEFTERİ DENİZLİ / ERDAL BEŞİKÇİOĞLU  \n \nYaşadıklarıyla baş etmeye çalışan bir adamın hatıra defterinde yazanları konu alan “Bir Delinin Hatıra Defteri”\, Erdal Beşikçioğlu’nun muhteşem performansı ile Denizli’ye geliyor. Oyun\, 29.05.2019’da Açık Hava Tiyatrosu sahnesinde saat 21.00’de… \nDİKKAT: Etkinlik turne programındaki değişiklik itibariyle 3 EKİM tarihine ertelenmiştir. 3 Ekim tarihli etkinliğin detaylarına buradan ulaşabilirsiniz. \nFacebook Etkinlik Linki: Denizli Açık Hava Tiyatrosu – Bir Delinin Hatıra Defteri \nEtkinliğin Sosyal Medya Hesapları: Erdal Beşikçioğlu Resmi Twitter Hesabı  \nBilet Fiyatı: \n1. Kategori – 101.00 TL (Biletx Satış Fiyatı) \n2. Kategori – 78.50 TL (Biletx Satış Fiyatı)\nÖğrenci – 56.00 TL (Biletx Satış Fiyatı) \n Bilet Almak İçin Tıklayın… \n Bilgi İçin; 0537 991 0 991 \nBİLET SATIŞ NOKTALARI:\n*BAYKUŞ KAFE\n*FRANKLİN COFFEE TERAS PARK\n*Route \n\n\n\n \nGüncel Etkinlik Takviminden Haberdar Olmak İçin Facebook’ta Bizi Takip Edin.\n   \n 
URL:https://etkinlikdenizli.com/etkinlik/acik-hava-tiyatrosu-bir-delinin-hatira-defteri-29-05-2019/
LOCATION:Açık Hava Tiyatrosu\, Milli Egemenlik Parkı\, Denizli Merkez/Denizli\, Türkiye
CATEGORIES:Açık Hava Tiyatrosu,Tiyatro
ATTACH;FMTTYPE=image/jpeg:https://etkinlikdenizli.com/wp-content/uploads/2018/07/erdal.jpg
END:VEVENT
END:VCALENDAR