BEGIN:VCALENDAR
VERSION:2.0
PRODID:-//ETKİNLİK DENİZLİ - ECPv5.14.1//NONSGML v1.0//EN
CALSCALE:GREGORIAN
METHOD:PUBLISH
X-WR-CALNAME:ETKİNLİK DENİZLİ
X-ORIGINAL-URL:https://etkinlikdenizli.com
X-WR-CALDESC:ETKİNLİK DENİZLİ için etkinlikler
BEGIN:VTIMEZONE
TZID:Europe/Istanbul
BEGIN:STANDARD
TZOFFSETFROM:+0300
TZOFFSETTO:+0300
TZNAME:+03
DTSTART:20210101T000000
END:STANDARD
END:VTIMEZONE
BEGIN:VEVENT
DTSTART;VALUE=DATE:20210703
DTEND;VALUE=DATE:20210704
DTSTAMP:20260424T072033
CREATED:20210606T223136Z
LAST-MODIFIED:20210614T204039Z
UID:6453-1625270400-1625356799@etkinlikdenizli.com
SUMMARY:Açık Hava Tiyatrosu - Melek Mosso Konseri / 03.07.2021
DESCRIPTION:AÇIK HAVA TİYATROSU– MELEK MOSSO DENİZLİ KONSERİ \n \n2015 yılında Katıldığı O Ses Türkiye yarışması ile hayatımıza giren\, akabinde cover parçalarıyla Youtube üzerinden yayınlanmaya başlayan akustik performanslarıyla geniş kitlelere ulaşan Melek Mosso\, vursalar ölmem\, umrumda değil\, hiç ışık yok\, arzular arsız\, kedi\, bana yalan söylediler gibi şarkılarıyla Denizli’ye geliyor. Konser 03 Temmuz 2021 Cumartesi akşamı Açık Hava Tiyatrosu sahnesinde gerçekleştirilecektir. \nETKİNLİK KURALLARI: \n-Covid-19 Pandemisinin yayılmasının önlenmesine yönelik tüm önlemler organizatör firma tarafından alınmaktadır. -Katılımcılar/izleyiciler alana girerken maske takmalı ve etkinlik süresince maskelerini çıkarmamalıdır. \nMüzisyenin Öne Çıkan Parçalarını Dinlemek İsterseniz; MELEK MOSSO Youtube  \nFacebook Etkinlik Linki: Denizli Açık Hava Tiyatrosu Melek Mosso Konseri  \nEtkinliğin Sosyal Medya Hesapları: Melek Mosso Resmi Twitter Hesabı  \nBilet Fiyatı:  \n1. Kategori – 140\,00 TL\n2. Kategori – 130\,00 TL\n3. Kategori –  100\,00 TL\n4. Kategori – 90\,00 TL\nBilet Satın Almak İçin:  Baykuş Kafe (Çamlık)| Babil Kafe (Teras Park) | Colombia Kafe (Kampüs) | Çakır GSM (Çınar) \nİletişim Bilgisi İçin: 0554 544 33 09 \nGüncel Etkinlik Takviminden Haberdar Olmak İçin Facebook’ta Bizi Takip Edin.
URL:https://etkinlikdenizli.com/etkinlik/acik-hava-tiyatrosu-melek-mosso-konseri-03-07-2021/
LOCATION:Açık Hava Tiyatrosu\, Milli Egemenlik Parkı\, Denizli Merkez/Denizli\, Türkiye
CATEGORIES:Açık Hava Tiyatrosu,Konser
ATTACH;FMTTYPE=image/jpeg:https://etkinlikdenizli.com/wp-content/uploads/2021/06/melleeeeek.jpg
END:VEVENT
END:VCALENDAR