BEGIN:VCALENDAR
VERSION:2.0
PRODID:-//ETKİNLİK DENİZLİ - ECPv5.14.1//NONSGML v1.0//EN
CALSCALE:GREGORIAN
METHOD:PUBLISH
X-WR-CALNAME:ETKİNLİK DENİZLİ
X-ORIGINAL-URL:https://etkinlikdenizli.com
X-WR-CALDESC:ETKİNLİK DENİZLİ için etkinlikler
BEGIN:VTIMEZONE
TZID:Europe/Istanbul
BEGIN:STANDARD
TZOFFSETFROM:+0300
TZOFFSETTO:+0300
TZNAME:+03
DTSTART:20180101T000000
END:STANDARD
END:VTIMEZONE
BEGIN:VEVENT
DTSTART;VALUE=DATE:20181003
DTEND;VALUE=DATE:20181004
DTSTAMP:20260419T195953
CREATED:20180911T192738Z
LAST-MODIFIED:20180918T201639Z
UID:3829-1538524800-1538611199@etkinlikdenizli.com
SUMMARY:Açık Hava Tiyatrosu – Yıldız Tilbe Konseri / 03.10.2018
DESCRIPTION:AÇIK HAVA TİYATROSU – DENİZLİ YILDIZ TİLBE KONSERİ \n \nÇeşitli gece kulüplerinde sahne aldığı bir dönemin ardından Cem Özer’in “Laf Lafı Açıyor” isimli programında solistlik yapmaya başlayan ve burada ünlenen\, kazandığı ün neticesinde 1994 yılının yazında Delikanlım isimli ilk albümünü çıkaran akabinde günümüze kadar yirminin üzerinde albümü beğenimize sunan\, efsane şarkı yazarı ve yorumcusu Yıldız Tilbe\, geceler sarhoş\, vazgeçtim\, delikanlım\, kış gülleri\, kafam hafif dumanlı\, yürü anca gidersin\, kardelen gibi şarkılarıyla Denizli’ye geliyor. 03 Ekim 2018 Çarşamba akşamı Açık Hava Tiyatrosu sahnesinde gerçekleştirilecek olan konser saat 21.15’de… \nMüzisyenin Öne Çıkan Parçalarını Dinlemek İsterseniz; Yıldız Tilbe Youtube  \nFacebook Etkinlik Linki: Açık Hava Tiyatrosu – Yıldız Tilbe Konseri  \nEtkinliğin Sosyal Medya Hesapları: Yıldız Tilbe Resmi Twitter Hesabı \nBilet Fiyatı: BiletX Satış Fiyatları aşağıdaki gibidir. \n1.Kategori: 194\,25 TL\n2.Kategori: 166\,50 TL\n3.Kategori: 144\,25 TL\n4.Kategori: 122 TL\n5.Kategori: 100 TL\n6.Kategori: 83\,25 TL \nDiğer Satış Noktaları;\n\nDuyurulmadı.  \n\n\n\n \nGüncel Etkinlik Takviminden Haberdar Olmak İçin Facebook’ta Bizi Takip Edin.\n   \n 
URL:https://etkinlikdenizli.com/etkinlik/acik-hava-tiyatrosu-yildiz-tilbe-konseri-03-10-2018/
LOCATION:Açık Hava Tiyatrosu\, Milli Egemenlik Parkı\, Denizli Merkez/Denizli\, Türkiye
CATEGORIES:Açık Hava Tiyatrosu,Konser
ATTACH;FMTTYPE=image/jpeg:https://etkinlikdenizli.com/wp-content/uploads/2018/09/tilbe2.jpg
END:VEVENT
END:VCALENDAR