BEGIN:VCALENDAR
VERSION:2.0
PRODID:-//ETKİNLİK DENİZLİ - ECPv5.14.1//NONSGML v1.0//EN
CALSCALE:GREGORIAN
METHOD:PUBLISH
X-WR-CALNAME:ETKİNLİK DENİZLİ
X-ORIGINAL-URL:https://etkinlikdenizli.com
X-WR-CALDESC:ETKİNLİK DENİZLİ için etkinlikler
BEGIN:VTIMEZONE
TZID:Europe/Istanbul
BEGIN:DAYLIGHT
TZOFFSETFROM:+0200
TZOFFSETTO:+0300
TZNAME:EEST
DTSTART:20160327T010000
END:DAYLIGHT
BEGIN:STANDARD
TZOFFSETFROM:+0300
TZOFFSETTO:+0300
TZNAME:+03
DTSTART:20160906T210000
END:STANDARD
END:VTIMEZONE
BEGIN:VEVENT
DTSTART;VALUE=DATE:20161021
DTEND;VALUE=DATE:20161024
DTSTAMP:20260419T151709
CREATED:20161017T163002Z
LAST-MODIFIED:20161017T172601Z
UID:2571-1477008000-1477267199@etkinlikdenizli.com
SUMMARY:Forum Çamlık - AKUT 20.Yıl Fotoğraf Sergisi
DESCRIPTION:FORUM ÇAMLIK AVM – AKUT 20.YIL FOTOĞRAF SERGİSİ\n \nMisyonlarını şu şekilde açıklayan: “Dağ ve doğa koşullarında meydana gelen kaybolma ve kaza olaylarında\, deprem\, sel gibi doğal afetlerde ve büyük kazalarda\, tamamen gönüllü olarak\, amatör bir çalışma ve profesyonel bir yaklaşım ile\, başı dertte olan kişilere en kısa sürede ulaşmak\, yardım için gereken uygun koşulları yaratmak\, doğru arama ve kurtarma çalışması yaparak\, kazazedelere temel ilkyardım desteğini sağladıktan sonra emniyetli ortam koşullarına nakillerini sağlamak\, bu tür olaylarda can kaybını en aza indirmek ve arama kurtarma konularında toplumu bilgilendirmek derneğimizin temel amacıdır.” AKUT\, 20 yılı gerisinde bıraktı. “GELECEĞİMİZİ BİRLİKTE KURTARALIM.” Sloganıyla çıktıkları yolda bir çok hayat kurtardılar. AKUT 20.YIL FOTOĞRAF SERGİSİ 21-22-23 EKİM 2016 tarihlerinde Forum Çamlık AVM’de…  \nFacebook Etkinlik Linki: AKUT 20.Yıl Fotoğraf Sergisi \nEtkinliğin Sosyal Medya Hesapları: AKUT Denizli Resmi Facebook Sayfası \nBilet Fiyatı: Ücretsiz  \n\n\n\n \nGüncel Etkinlik Takviminden Haberdar Olmak İçin Facebook’ta Bizi Takip Edin.
URL:https://etkinlikdenizli.com/etkinlik/akut-20-yil-fotograf-sergisi/
LOCATION:Forum Çamlık AVM\, Mehmetçik Mh.\, Doğan Demircioğlu Cad\, No:2\, 20020 Denizli\, Türkiye
CATEGORIES:Forum Çamlık,Sergi
ATTACH;FMTTYPE=image/jpeg:https://etkinlikdenizli.com/wp-content/uploads/2016/10/13557734_1160994117284969_1429596825026364642_n.jpg
END:VEVENT
END:VCALENDAR