BEGIN:VCALENDAR
VERSION:2.0
PRODID:-//ETKİNLİK DENİZLİ - ECPv5.14.1//NONSGML v1.0//EN
CALSCALE:GREGORIAN
METHOD:PUBLISH
X-WR-CALNAME:ETKİNLİK DENİZLİ
X-ORIGINAL-URL:https://etkinlikdenizli.com
X-WR-CALDESC:ETKİNLİK DENİZLİ için etkinlikler
BEGIN:VTIMEZONE
TZID:Europe/Istanbul
BEGIN:STANDARD
TZOFFSETFROM:+0300
TZOFFSETTO:+0300
TZNAME:+03
DTSTART:20200101T000000
END:STANDARD
END:VTIMEZONE
BEGIN:VEVENT
DTSTART;VALUE=DATE:20200201
DTEND;VALUE=DATE:20200301
DTSTAMP:20260421T133054
CREATED:20200107T065420Z
LAST-MODIFIED:20200127T091943Z
UID:5643-1580515200-1583020799@etkinlikdenizli.com
SUMMARY:Çatalçeşme - Denizli Şehir Tiyatrosu & Genç Denizli Tiyatro Oyunları / Ocak 2020
DESCRIPTION:ÇATALÇEŞME – DENİZLİ ŞEHİR TİYATROSU & GENÇ DENİZLİ TİYATRO OYUNLARI / OCAK 2020\n \nDenizli Büyükşehir Belediyesi Şehir Tiyatrosu\nGenç Denizli Tiyatro Kulübü\nBilet Satın Almak & Davetiye İçin: tiyatro.denizli.bel.tr adresi E-BİLET bölümünden işlem yapabilirsiniz.  \nBilgi – İletişim: 0258 / 280 25 70 veya 280 21 23  \nOCAK 2020 OYUNLARI\n \n03 Ocak Cuma – Söz Sende / 20.00 / Nihat Zeybekci Kongre ve Kültür Merkezi \n04 Ocak Cuma – Söz Sende / 20.00 / Nihat Zeybekci Kongre ve Kültür Merkezi \n05 Ocak Pazar – Seksen Günde Dünya Gezisi / 14.00 / Nihat Zeybekci Kongre ve Kültür Merkezi \n05 Ocak Pazar – Skeç Fabrikası / 20.00 / Çatalçeşme Oda Tiyatrosu \n*** \n10 Ocak Cuma – Kamyon / 20.00 / Nihat Zeybekci Kongre ve Kültür Merkezi \n11 Ocak Cumartesi – Kamyon / 20.00 / Nihat Zeybekci Kongre ve Kültür Merkezi \n12 Ocak Pazar – Masallar Diyarı / 14.00 / Nihat Zeybekci Kongre ve Kültür Merkezi \n12 Ocak Pazar – Çehov Kısa Oyunları (Kısa Oyunları) /20.00 / Çatalçeşme Oda Tiyatrosu \n*** \n17 Ocak Cuma – Geç Kalanlar / 20.00 / Nihat Zeybekci Kongre ve Kültür Merkezi \n18 Ocak Cumartesi – Geç Kalanlar / 20.00 / Nihat Zeybekci Kongre ve Kültür Merkezi \n19 Ocak Pazar – Seksen Günde Dünya Gezisi / 14.00 / Nihat Zeybekci Kongre ve Kültür Merkezi \n19 Ocak Pazar – Türkmen Düğünü / 20.00 / Çatalçeşme Oda Tiyatrosu \n*** \n24 Ocak Cuma – 39 Basamak / 20.00 / Nihat Zeybekci Kongre ve Kültür Merkezi \n25 Ocak Cumartesi – 39 Basamak / 20.00 / Nihat Zeybekci Kongre ve Kültür Merkezi \n26 Ocak Pazar – Masallar Diyarı /14.00 / Nihat Zeybekci Kongre ve Kültür Merkezi \n26 Ocak Pazar – Kulaktan Kulağa / 20.00 /  Çatalçeşme Oda Tiyatrosu \n*** \n28 Ocak Salı – Seksen Günde Dünya Gezisi / 14.00 / Nihat Zeybekci Kongre ve Kültür Merkezi \n30 Ocak Perşembe – Masallar Diyarı / 14.00 / Nihat Zeybekci Kongre ve Kültür Merkezi \n31 Ocak Cuma – Kahvede Şenlik Var / 20.00 / Nihat Zeybekci Kongre ve Kültür Merkezi \n01 Şubat Cumartesi – Kahvede Şenlik Var / 20.00 / Nihat Zeybekci Kongre ve Kültür Merkezi \n02 Şubat Pazar – Seksen Günde Dünya Gezisi / 14.00 / Nihat Zeybekci Kongre ve Kültür Merkezi \n02 Şubat Pazar – Bir Ahi Zaman / 20.00 / Çatalçeşme Oda Tiyatrosu \nNOT: OYUNLARIN KONUSU / SÜRELERİ / OYUNCULARI hakkında bilgi almak isterseniz: http://tiyatro.denizli.bel.tr adresini ziyaret edebilirsiniz. \n \n \n \n \n \nEtkinliğin Sosyal Medya Hesapları: Denizli Büyükşehir Belediyesi Şehir Tiyatrosu Resmi Facebook Adresi | Denizli Belediyesi Genç Denizli Tiyatro Kulübü  \nGüncel Etkinlik Takviminden Haberdar Olmak İçin Facebook’ta Bizi Takip Edin…
URL:https://etkinlikdenizli.com/etkinlik/catalcesme-denizli-sehir-tiyatrosu-genc-denizli-tiyatro-oyunlari-ocak-2020/
LOCATION:Nihat Zeybekci Kongre ve Kültür Merkezi\, İncilipınar mh. 3370 Sok. Nihat Zeybekçi kongre ve kültür merkezi\, Denizli\, 20150\, Türkiye
CATEGORIES:Çatalçeşme,Denizli Nihat Zeybekci Kongre ve Kültür Merkezi,Tiyatro
ATTACH;FMTTYPE=image/jpeg:https://etkinlikdenizli.com/wp-content/uploads/2019/04/konzert-theater-bern4-faa1cafd.jpg
ORGANIZER;CN="Denizli%20B%C3%BCy%C3%BCk%C5%9Fehir%20Belediyesi%20%C5%9Eehir%20Tiyatrosu":MAILTO:tiyatro@denizli.bel.tr
END:VEVENT
END:VCALENDAR