BEGIN:VCALENDAR
VERSION:2.0
PRODID:-//ETKİNLİK DENİZLİ - ECPv5.14.1//NONSGML v1.0//EN
CALSCALE:GREGORIAN
METHOD:PUBLISH
X-WR-CALNAME:ETKİNLİK DENİZLİ
X-ORIGINAL-URL:https://etkinlikdenizli.com
X-WR-CALDESC:ETKİNLİK DENİZLİ için etkinlikler
BEGIN:VTIMEZONE
TZID:Europe/Istanbul
BEGIN:DAYLIGHT
TZOFFSETFROM:+0200
TZOFFSETTO:+0300
TZNAME:EEST
DTSTART:20160327T010000
END:DAYLIGHT
BEGIN:STANDARD
TZOFFSETFROM:+0300
TZOFFSETTO:+0300
TZNAME:+03
DTSTART:20160906T210000
END:STANDARD
END:VTIMEZONE
BEGIN:VEVENT
DTSTART;VALUE=DATE:20161021
DTEND;VALUE=DATE:20161028
DTSTAMP:20260419T164720
CREATED:20161017T171134Z
LAST-MODIFIED:20161017T172556Z
UID:2575-1477008000-1477612799@etkinlikdenizli.com
SUMMARY:Defsad - Doğanın Gözyaşları Fotoğraf Sergisi
DESCRIPTION:TURHAN BAHADIR SERGİ SALONU – DEFSAD – DOĞANIN GÖZYAŞLARI FOTOĞRAF SERGİSİ\n \nDEFSAD\, kuruluşunun onuncu yılında\, otuz beş fotoğraf sanatçısının\, tam elli iki fotoğrafından oluşan dokuzuncu sergisiyle çıkıyor sanatseverlerin karşısına. “Doğanın Gözyaşları” adı altında sanatseverlerle buluşacak olan sergiyi şöyle özetliyor DEFSAD: “Doğanın gözyaşları dediğimiz bizim gözyaşlarımızdır aslında… Fotoğraf sanatının kendi dilince konuşarak farkındalık yaratmak istiyoruz. Umarız\, doğanın gözyaşlarının dinmesine katkı sağlarız hep birlikte… ” Sergi 21-27 Ekim 2016 tarihlerinde Denizli Büyükşehir Belediyesi Turhan Bahadır Sergi Salonu’nda…  \nFacebook Etkinlik Linki: Defsad | Doğanın Gözyaşları Fotoğraf Sergisi  \nEtkinliğin Sosyal Medya Hesapları: DEFSAD Resmi Facebook Sayfası \nBilet Fiyatı: Ücretsiz  \n\n\n\n \nGüncel Etkinlik Takviminden Haberdar Olmak İçin Facebook’ta Bizi Takip Edin.
URL:https://etkinlikdenizli.com/etkinlik/defsad-doganin-gozyaslari-fotograf-sergisi/
LOCATION:Denizli Büyükşehir Belediyesi Turhan Bahadır Sergi Salonu\, Altıntop Mah. Lise Cad. No:2 \, Denizli\, 20100 \, Türkiye
CATEGORIES:Sergi,Turhan Bahadır Sergi Salonu
ATTACH;FMTTYPE=image/jpeg:https://etkinlikdenizli.com/wp-content/uploads/2016/10/defsad.jpg
END:VEVENT
END:VCALENDAR