BEGIN:VCALENDAR
VERSION:2.0
PRODID:-//ETKİNLİK DENİZLİ - ECPv5.14.1//NONSGML v1.0//EN
CALSCALE:GREGORIAN
METHOD:PUBLISH
X-WR-CALNAME:ETKİNLİK DENİZLİ
X-ORIGINAL-URL:https://etkinlikdenizli.com
X-WR-CALDESC:ETKİNLİK DENİZLİ için etkinlikler
BEGIN:VTIMEZONE
TZID:Europe/Istanbul
BEGIN:STANDARD
TZOFFSETFROM:+0300
TZOFFSETTO:+0300
TZNAME:+03
DTSTART:20190101T000000
END:STANDARD
END:VTIMEZONE
BEGIN:VEVENT
DTSTART;VALUE=DATE:20190417
DTEND;VALUE=DATE:20190418
DTSTAMP:20260419T161443
CREATED:20190404T224131Z
LAST-MODIFIED:20190416T110136Z
UID:4697-1555459200-1555545599@etkinlikdenizli.com
SUMMARY:Denizli Küçük Prens Kum Sanatı Gösterisi / 17.04.2019
DESCRIPTION:PAMUKKALE HALK EĞİTİM MERKEZİ (DENİZLİ LİSESİ BAHÇESİ İÇERİSİNDE) – DENİZLİ KÜÇÜK PRENS KUM SANATI GÖSTERİSİ\n \nDoğa da çok kum var fakat hiçbiri sanat eseri değil ta ki sanatçının eli değene kadar. \nKüçük prensin çölde kumlar üzerinde başlayan hikayesi kum ve anlatı sanatıyla buluşuyor. \n“Gökyüzüne bir bakın. Sonra da kendinize sorun: “Koyun çiçeği yedi mi\, yemedi mi?” Göreceksiniz\, her şey nasıl da değişecek ve hiçbir yetişkin insan\, bunun ne kadar önemli olduğunu asla anlamayacak!” \n“KAPIDA BİLET SATIŞI YAPILACAKTIR. BİLGİ İÇİN: 0539 573 07 84”\nGrup Adı: Entropi Sahne\nOyun Adı: Küçük Prens\nYazan: Antoine de Saint-Exupéry\nYöneten: Yurdaer Okur\nOyun Türü: Anlatı / Kum Performansı\nOyun Süresi: 45 dakika\nHedef Yaş Grubu: 7’den 77’ye Küçük Prens hepimizin 🙂\nAnlatan: Merve Öztoprak Kantarcı\nKum Ressamı: Ramazan Yumrutepe\n \n17 Nisan 2019 Çarşamba / OYUN SAATLERİ:\n1.SEANS: 18:30’da.\n2.SEANS: 20:30’da. \n \nBURADAN ONLİNE BİLET ALABİLİRSİNİZ: TİYATROLAR.COM.TR (DİKKAT: Online bilet alırken DENİZLİ şehrini ve doğru saati seçtiğinizden emin olunuz…) \nFacebook Etkinlik Linki: Denizli Halk Eğitim Merkezi – Küçük Prens Oyunu \nEtkinliğin Sosyal Medya Hesapları: Yurdaer Okur Resmi Twitter Hesabı | Entropi Sahne Resmi Twitter Hesabı \n\nİLETİŞİM: MEHMET ŞAHİNKURT / 0539 573 07 84  \nBilet Satış Fiyatı: 20 TL (OKULLARA VE GRUPLARA ÖZEL TOPLU BİLET SATIŞI 15 TL olup\, toplu bilet almak için 0539 573 07 84) \nDenizli Satış Noktaları:\nBaykuş Kafe / Çınar\nDon Kişot Kitabevi / Kampüs\nFranklin Kafe / Çamlık\nKafka Kitap Kafe / Kampüs\n***\nONLİNE: TİYATROLAR.COM.TR\n(DİKKAT: Online bilet alırken DENİZLİ şehrini ve doğru saati seçtiğinizden emin olunuz…) \n\n\n\n \n \nGüncel Etkinlik Takviminden Haberdar Olmak İçin Facebook’ta Bizi Takip Edin.
URL:https://etkinlikdenizli.com/etkinlik/denizli-kucuk-prens-kum-sanati-gosterisi-17-04-2019/
LOCATION:Halk Eğitim Sahnesi\, Kuşpınar\, 1282 Sokak No:3\, 20150 Pamukkale\, Denizli\, Türkiye
CATEGORIES:Gösteri,Halk Eğitim Sahnesi
ATTACH;FMTTYPE=image/jpeg:https://etkinlikdenizli.com/wp-content/uploads/2019/04/4.jpg
ORGANIZER;CN="Etkinlik%20Denizli%20%2F%20Denizli%20Sosyal%20Plus":MAILTO:info@etkinlikdenizli.com
END:VEVENT
END:VCALENDAR