BEGIN:VCALENDAR
VERSION:2.0
PRODID:-//ETKİNLİK DENİZLİ - ECPv5.14.1//NONSGML v1.0//EN
CALSCALE:GREGORIAN
METHOD:PUBLISH
X-WR-CALNAME:ETKİNLİK DENİZLİ
X-ORIGINAL-URL:https://etkinlikdenizli.com
X-WR-CALDESC:ETKİNLİK DENİZLİ için etkinlikler
BEGIN:VTIMEZONE
TZID:Europe/Istanbul
BEGIN:STANDARD
TZOFFSETFROM:+0300
TZOFFSETTO:+0300
TZNAME:+03
DTSTART:20200101T000000
END:STANDARD
END:VTIMEZONE
BEGIN:VEVENT
DTSTART;VALUE=DATE:20200307
DTEND;VALUE=DATE:20200308
DTSTAMP:20260420T120834
CREATED:20200216T224520Z
LAST-MODIFIED:20200313T170907Z
UID:5926-1583539200-1583625599@etkinlikdenizli.com
SUMMARY:Downtown – Anıl Piyancı & Ceg Konseri / İptal
DESCRIPTION:DOWNTOWN – ANIL PİYANCI & CEG KONSERİ \n \nETKİNLİK İPTAL EDİLMİŞTİR.\n​Rap dünyasını önemli isimlerinden Anıl Piyancı ve gerçek adı Volkan Ayvazoğlu olan rap müzik şarkıcısı Ceg 7 Mart Cumartesi akşamı konuklarıyla Denizli Downtown sahnesinde! \nKonser 7 Mart Cumartesi akşamı Downtown House’da gerçekleşecektir. Etkinliğin başlama saati 22.00’dir. \nMüzisyenin Öne Çıkan Parçalarını Dinlemek İsterseniz; Anıl Piyancı & Ceg Youtube  \nFacebook Etkinlik Linki: Denizli Downtown House – Anıl Piyancı & Ceg Konseri  \nEtkinliğin Sosyal Medya Hesapları: Anıl Piyancı Resmi Facebook Hesabı | Downtown Resmi Facebook Hesabı  \nBilet Fiyatı (Biletix): 69.00 TL \nBiletix’ten Satın Almak İçin Tıklayın.  \nDiğer Satış Noktaları;  Downtown House (Forum Çamlık) \nGüncel Etkinlik Takviminden Haberdar Olmak İçin Facebook’ta Bizi Takip Edin.
URL:https://etkinlikdenizli.com/etkinlik/downtown-anil-piyanci-ceg-konseri-iptal/
LOCATION:Downtown House\, Doğan Demircioğlu Cd. No:2 Mehmetçik Mahallesi 20170 Merkezefendi\, Denizli\, 20170\, Turkey
CATEGORIES:downtown,Konser
ATTACH;FMTTYPE=image/jpeg:https://etkinlikdenizli.com/wp-content/uploads/2020/02/ENHdDb-XkAAd9iv.jpg
END:VEVENT
END:VCALENDAR