BEGIN:VCALENDAR
VERSION:2.0
PRODID:-//ETKİNLİK DENİZLİ - ECPv5.14.1//NONSGML v1.0//EN
CALSCALE:GREGORIAN
METHOD:PUBLISH
X-WR-CALNAME:ETKİNLİK DENİZLİ
X-ORIGINAL-URL:https://etkinlikdenizli.com
X-WR-CALDESC:ETKİNLİK DENİZLİ için etkinlikler
BEGIN:VTIMEZONE
TZID:Europe/Istanbul
BEGIN:STANDARD
TZOFFSETFROM:+0300
TZOFFSETTO:+0300
TZNAME:+03
DTSTART:20180101T000000
END:STANDARD
END:VTIMEZONE
BEGIN:VEVENT
DTSTART;VALUE=DATE:20181023
DTEND;VALUE=DATE:20181024
DTSTAMP:20260419T160153
CREATED:20181021T123845Z
LAST-MODIFIED:20181021T123845Z
UID:3942-1540252800-1540339199@etkinlikdenizli.com
SUMMARY:EGS Kültür - Azizname Tiyatro Oyunu / 23.10.2018
DESCRIPTION:EGS KONGRE VE KÜLTÜR – AZİZNAME TİYATRO OYUNU\n \nAziz Nesin’in öykü ve taşlamalarından\, Yücel Erten tarafından sahneye uyarlanan ‘Azizname’\, yaratıcısının efsane rejisiyle yeniden sahnede! \nDaha önce yapılan sahnelemelerinde on binlerce seyirciye ulaşan oyun\, İstanbul’da ilk kez Yücel Erten tarafından sahneye taşınıyor. \n‘Azizname’\, yenilenen güçlü sanatçı ve tasarımcı kadrosuyla önce İstanbul’da\, daha sonra tüm Türkiye’de seyircisi ile buluşacak. \nYazan: Aziz Nesin\nSahneye Uyarlayan ve Yöneten:Yücel Erten\nMüzik: Turgay Erdener\nDekor ve Kostüm Tasarımı:Yücel Erten & Selda Durna\nIşık Tasarımı:Yakup Çartık\nKoreografi: Salima Sökmen\nMüzik Koordinatörü: Çiğdem Erken\nReji Asistanı: Nurlana Haskan\nOyuncular: Emre Altuğ\, Bülent Çolak\, Zühtü Erkan\, Pınar Gülkapan\, Hande Kaptan\, Berk Sezenler\, Burak Şentürk ve Fatip Topçuoğlu\nPiyanist: İklim Tamkan\,Ayhan Mutlu \nFacebook Etkinlik Linki: —— \nEtkinliğin Sosyal Medya Hesapları: Azizname Resmi Twitter Hesabı  \nBiletX Bilet Fiyatı: \n67\,50 TL\n56\,50 TL\n45\,00 TL\n \nSatış Noktaları:\nBaykuş Kafe / Franklin Kafe – Çamlık / Franklin Kafe – Teras Park  \nİletişim: 0537 991 0 991  \n\n\n\n \nGüncel Etkinlik Takviminden Haberdar Olmak İçin Facebook’ta Bizi Takip Edin.
URL:https://etkinlikdenizli.com/etkinlik/egs-kultur-azizname-tiyatro-oyunu-23-10-2018/
LOCATION:EGS Kongre ve Kültür Merkezi\, EGS Park\, Kayalar Mahallesi\, 20030 Denizli Merkez/Denizli\, Türkiye
CATEGORIES:EGS Kültür,Tiyatro
ATTACH;FMTTYPE=image/jpeg:https://etkinlikdenizli.com/wp-content/uploads/2018/10/azizname2.jpg
END:VEVENT
END:VCALENDAR