BEGIN:VCALENDAR
VERSION:2.0
PRODID:-//ETKİNLİK DENİZLİ - ECPv5.14.1//NONSGML v1.0//EN
CALSCALE:GREGORIAN
METHOD:PUBLISH
X-WR-CALNAME:ETKİNLİK DENİZLİ
X-ORIGINAL-URL:https://etkinlikdenizli.com
X-WR-CALDESC:ETKİNLİK DENİZLİ için etkinlikler
BEGIN:VTIMEZONE
TZID:Europe/Istanbul
BEGIN:STANDARD
TZOFFSETFROM:+0300
TZOFFSETTO:+0300
TZNAME:+03
DTSTART:20190101T000000
END:STANDARD
END:VTIMEZONE
BEGIN:VEVENT
DTSTART;VALUE=DATE:20191220
DTEND;VALUE=DATE:20191221
DTSTAMP:20260420T135047
CREATED:20191221T212433Z
LAST-MODIFIED:20191221T212433Z
UID:5497-1576800000-1576886399@etkinlikdenizli.com
SUMMARY:My Soho - Bar Stand Up Açık Mikrofon / 20.12.2019
DESCRIPTION:MY SOHO – BAR STAND UP AÇIK MİKROFON DENİZLİ KOMEDİ FESTİVALİ\n \nDenizli Komedi Festivali’nin ikinci etkinliği “Denizli’de bir ilk olan” Bar Stand-Up konseptiyle Açık Mikrofon\, 20 Aralık Cuma akşamı MySoho’da başlıyor. “İster Sahneye Çık! İster Seyirci Ol!” 🙂  \nFacebook Etkinlik Linki: Denizli Komedi Festivali Açık Mikrofon / Stand Up \nEtkinliğin Sosyal Medya Hesapları: Denizli Komedi Festivali Resmi Instagram Hesabı \nBilet Satış Fiyatı: Giriş 25 TL (1 Bira Ücretsiz) \nBilgi ve Rezervasyon: 0553 946 67 23 \nGüncel Etkinlik Takviminden Haberdar Olmak İçin Facebook’ta Bizi Takip Edin.
URL:https://etkinlikdenizli.com/etkinlik/my-soho-bar-stand-up-acik-mikrofon-20-12-2019/
LOCATION:My Soho\, Çamlaraltı\, 6015. Sk. No:10\, 20160 Pamukkale\, Denizli\, 20160\, Türkiye
CATEGORIES:Gösteri,My Soho
ATTACH;FMTTYPE=image/jpeg:https://etkinlikdenizli.com/wp-content/uploads/2019/12/BANNER-etKINLIK-DENIZLI.jpg
ORGANIZER;CN="Etkinlik%20Denizli%20%2F%20Denizli%20Sosyal%20Plus":MAILTO:info@etkinlikdenizli.com
END:VEVENT
END:VCALENDAR