BEGIN:VCALENDAR
VERSION:2.0
PRODID:-//ETKİNLİK DENİZLİ - ECPv5.14.1//NONSGML v1.0//EN
CALSCALE:GREGORIAN
METHOD:PUBLISH
X-WR-CALNAME:ETKİNLİK DENİZLİ
X-ORIGINAL-URL:https://etkinlikdenizli.com
X-WR-CALDESC:ETKİNLİK DENİZLİ için etkinlikler
BEGIN:VTIMEZONE
TZID:Europe/Istanbul
BEGIN:STANDARD
TZOFFSETFROM:+0300
TZOFFSETTO:+0300
TZNAME:+03
DTSTART:20190101T000000
END:STANDARD
END:VTIMEZONE
BEGIN:VEVENT
DTSTART;VALUE=DATE:20190524
DTEND;VALUE=DATE:20190525
DTSTAMP:20260419T161352
CREATED:20190427T205549Z
LAST-MODIFIED:20190427T205549Z
UID:4789-1558656000-1558742399@etkinlikdenizli.com
SUMMARY:Nihat Zeybekci K.M. - Ferhangi Şeyler / 24.05.2019
DESCRIPTION:NİHAT ZEYBEKCİ K.M. – FERHANGİ ŞEYLER TİYATRO OYUNU  \n \nFerhan Şensoy’un 7 Mart 1987’den beri aralıksız oynadığı tek kişilik gösterisi olup\, oyunun en kısa tanımı; gündelik herhangi olayların Ferhanca bir mizah penceresinden değerlendirilmesidir. Ferhangi Şeyler\, birazcık uzun bir zamandan sonra tekrar Denizli’de. 24 Mayıs 2019 tarihinde Denizli Nihat Zeybekci K.M. gerçekleştirilecek oyunun tüm detaylarına buradan ulaşabilirsiniz. \nOyun Saat 21.00’de… \nFacebook Etkinlik Linki: Denizli Nihat Zeybekci K.M. – Ferhangi Şeyler Tiyatro Oyunu \nEtkinliğin Sosyal Medya Hesapları: Ferhan Şensoy Resmi Twitter Hesabı  \nBilet Fiyatı: Duyurulmadı. / Bilgi İçin; 0537 991 0 991  \nBİLET SATIŞ NOKTALARI:\n*Route\n*BAYKUŞ KAFE\n*FRANKLİN COFFEE TERAS PARK \n\n\n\n \nGüncel Etkinlik Takviminden Haberdar Olmak İçin Facebook’ta Bizi Takip Edin.
URL:https://etkinlikdenizli.com/etkinlik/nihat-zeybekci-k-m-ferhangi-seyler-24-05-2019/
LOCATION:Nihat Zeybekci Kongre ve Kültür Merkezi\, İncilipınar mh. 3370 Sok. Nihat Zeybekçi kongre ve kültür merkezi\, Denizli\, 20150\, Türkiye
CATEGORIES:Denizli Nihat Zeybekci Kongre ve Kültür Merkezi,Tiyatro
ATTACH;FMTTYPE=image/jpeg:https://etkinlikdenizli.com/wp-content/uploads/2017/07/ferhangi-seyler.jpg
END:VEVENT
END:VCALENDAR