BEGIN:VCALENDAR
VERSION:2.0
PRODID:-//ETKİNLİK DENİZLİ - ECPv5.14.1//NONSGML v1.0//EN
CALSCALE:GREGORIAN
METHOD:PUBLISH
X-WR-CALNAME:ETKİNLİK DENİZLİ
X-ORIGINAL-URL:https://etkinlikdenizli.com
X-WR-CALDESC:ETKİNLİK DENİZLİ için etkinlikler
BEGIN:VTIMEZONE
TZID:Europe/Istanbul
BEGIN:STANDARD
TZOFFSETFROM:+0300
TZOFFSETTO:+0300
TZNAME:+03
DTSTART:20190101T000000
END:STANDARD
END:VTIMEZONE
BEGIN:VEVENT
DTSTART;VALUE=DATE:20191220
DTEND;VALUE=DATE:20191221
DTSTAMP:20260419T145543
CREATED:20191215T154230Z
LAST-MODIFIED:20200117T110034Z
UID:5338-1576800000-1576886399@etkinlikdenizli.com
SUMMARY:Nihat Zeybekci K.M. - Harem Kabare Tiyatro Oyunu / 20.12.2019
DESCRIPTION:NİHAT ZEYBEKCİ K.M. – HAREM KABARE TİYATRO OYUNU DENİZLİ\n\n \nOkan Bayülgen yazdı – yönetti – oynadı.\n\nÖzge Borak\, Ezgi Çelik\, Beste Tok\, Ödül Turan\, Gizem Dinç\, Aybüke Albere çok farklı ve eğlenceli kadınlara can verdiler. \n“Bu kadınlar siz\, arkadaşlarınız\, geçmişteki ya da gelecekteki haliniz gibi. Fena halde tanıdık\, korkunç\, şuh\, dramatik ve komik.  \nBu adamı tepelesinler mi\, sevsinler mi\, öldürsünler mi?  \nHep beraber karar vereceğiz.” \nEtkinliğin başlama saati 20.30’dur. \nFacebook Etkinlik Linki: Denizli Nihat Zeybekci K.M. – Harem Kabare Tiyatro Oyunu \nEtkinliğin Sosyal Medya Hesapları: Okan Bayülgen Resmi Instagram Hesabı \nBilet Fiyatı: BiletiX Satış Fiyatları aşağıdaki gibidir. \n\n1. Kategori – 113.00 TL\n2. Kategori – 90.50 TL\n3. Kategori – 79.00 TL\n\nDiğer Satış Noktaları: —- \nGüncel Etkinlik Takviminden Haberdar Olmak İçin Facebook’ta Bizi Takip Edin.
URL:https://etkinlikdenizli.com/etkinlik/nihat-zeybekci-k-m-harem-kabare-tiyatro-oyunu-20-12-2019/
LOCATION:Nihat Zeybekci Kongre ve Kültür Merkezi\, İncilipınar mh. 3370 Sok. Nihat Zeybekçi kongre ve kültür merkezi\, Denizli\, 20150\, Türkiye
CATEGORIES:Denizli Nihat Zeybekci Kongre ve Kültür Merkezi,Tiyatro
ATTACH;FMTTYPE=image/jpeg:https://etkinlikdenizli.com/wp-content/uploads/2019/11/harem-kabare-770x470.jpg
END:VEVENT
END:VCALENDAR