BEGIN:VCALENDAR
VERSION:2.0
PRODID:-//ETKİNLİK DENİZLİ - ECPv5.14.1//NONSGML v1.0//EN
CALSCALE:GREGORIAN
METHOD:PUBLISH
X-WR-CALNAME:ETKİNLİK DENİZLİ
X-ORIGINAL-URL:https://etkinlikdenizli.com
X-WR-CALDESC:ETKİNLİK DENİZLİ için etkinlikler
BEGIN:VTIMEZONE
TZID:Europe/Istanbul
BEGIN:STANDARD
TZOFFSETFROM:+0300
TZOFFSETTO:+0300
TZNAME:+03
DTSTART:20190101T000000
END:STANDARD
END:VTIMEZONE
BEGIN:VEVENT
DTSTART;VALUE=DATE:20191218
DTEND;VALUE=DATE:20191219
DTSTAMP:20260419T161442
CREATED:20191215T153954Z
LAST-MODIFIED:20200222T145535Z
UID:5367-1576627200-1576713599@etkinlikdenizli.com
SUMMARY:Nihat Zeybekci K.M. - Kürk Mantolu Madonna Tiyatro Oyunu / 18.12.2019
DESCRIPTION:NİHAT ZEYBEKCİ K.M. – KÜRK MANTOLU MADONNA TİYATRO OYUNU DENİZLİ  \n  \n \n“Yazılmasının üzerinden yetmiş yılı aşkın bir süre geçmesine rağmen\, en çok okunanlar listesinden adı eksilmeyen\, Türkiye okurunun başucu kitabı Kürk Mantolu Madonna; Türkiye’de ilk defa tiyatro oyunu olarak seyirci karşısına çıkıyor. \nYazan: Sabahattin Ali\nUyarlayan ve Yöneten: Engin Alkan\nYapımcı: To Be House of Production\nOyuncular: Tuba Ünsal\, Engin Alkan\, Alper Saldıran\, Sercan Badur\, Lila Gürmen\, Sacide Taşaner\, Emrah Altıntoprak\, Özge Özel\, Gökdağ Yalçın\, Oya Kaptanoğlu ve Kayhan Yıldızoğlu\nDekor ve Işık Tasarım: Cem Yılmazer\nKostüm Tasarım: Beymen Collection\n“Veda” şarkı\, Söz ve Müzik: Sezen Aksu\nDramaturg: Sinem Özlek\nMüzik: Aytuğ Yargıç\nVideo Tasarım: Fatih Yılmaz\, Timur Sezgin\nMaria Puder Otoportre: Ahmet Güneştekin\nMaria Puder’in Şarkısı\, Söz: Engin Alkan\, Müzik: Schubert “Serenade”\nDekor Uygulama: Muhtar Pattabanoğlu\nProdüksiyon Sorumlusu: Deniz Uçan\nReji Asistanı: Oya Kaptanoğlu\, Evrim Zeybek\nSahne Amiri: Turan Tayar\nIşık Operatörü: Melis Karaman\nSes Operatörü: Hakan Atmaca\nTeknik Ekip: Murat Kaya\, Yaşar Kaya\, Turgay Kutlu\, Eyüp Tayar\nKulis Sorumlusu: Janset Yetişkin\nProje Asistanı: Koray Oktay Olcay\nAfiş Tasarım: TBWA İstanbul\nDijital Medya İçerik: Suna Yıldırım\nBasın Danışmanı: Sibel Algan\nOyun Fotoğrafları: Pelin Kaçar\, Emre Bezikoğlu\, Fethi Karaduman \n“Bu Yapıtın Sahnelenme İzni Yazar Sabahattin Ali Temsilcisi Telif Hakları Onk Ajans Ltd. Şti.’Den Alınmıştır.” \nOyun Hakkında\nYazılmasının üzerinden yetmiş yılı aşkın bir süre geçmesine rağmen\, en çok okunanlar listesinden adı eksilmeyen\, Türkiye okurunun başucu kitabı Kürk Mantolu Madonna; Türkiye’de ilk defa tiyatro oyunu olarak seyirci karşısına çıktı. Anadolu’nun işgali sırasında babası tarafından müttefik Almanya’ya gönderilen Raif’in\, ressam Maria Puder’le Berlin’de yaşadığı baş döndürücü aşkın hikayesi; bir yandan benliğimizin en karanlık noktalarına ışık tutarken\, bir yandan da ruhumuzun onu tamamlayan bir başka ruhla karşılaştığında nasıl tutkuyla bağlandığını\, en sıradan insan yaşamının bile nasıl derin bir anlama bürünebildiğini gözler önüne seriyor. Günümüz Türkiye tiyatrosunun başarılı yönetmenlerinden Engin Alkan’ın sahneye uyarlayıp yönettiği\, başrollerde; Engin Alkan\, Tuba Ünsal\, Alper Saldıran\, Sercan Badur\, Lila Gürmen\, Sacide Taşaner ve konuk oyuncu Kayhan Yıldızoğlu’nu izleyeceğiniz “Kürk Mantolu Madonna”\, okuyucusunda derin izler bırakan Sabahattin Ali’nin ölümsüz eserini\, Türkiye’de ilk kez tiyatronun büyülü dünyasında yaşatmaya davet ediyor.” \nFacebook Etkinlik Linki: Denizli Nihat Zeybekci K.M. – Kürk Mantolu Madonna Tiyatro Oyunu \nEtkinliğin Sosyal Medya Hesapları: Tuba Ünsal Resmi Twitter Hesabı  \nBilet Fiyatı (BiletiX): \n\n1. Kategori – 134.50 TL\n2. Kategori – 123.25 TL\n3. Kategori – 113.00 TL\n4. Kategori – 101.75 TL\n5. Kategori – 90.50 TL\n\n Bilet Almak İçin Tıklayın… \nBİLET SATIŞ NOKTALARI: —- \nGüncel Etkinlik Takviminden Haberdar Olmak İçin Facebook’ta Bizi Takip Edin.
URL:https://etkinlikdenizli.com/etkinlik/nihat-zeybekci-k-m-kurkmantolumadonna-tiyatro-oyunu-08-11-2019-2/
LOCATION:Nihat Zeybekci Kongre ve Kültür Merkezi\, İncilipınar mh. 3370 Sok. Nihat Zeybekçi kongre ve kültür merkezi\, Denizli\, 20150\, Türkiye
CATEGORIES:Denizli Nihat Zeybekci Kongre ve Kültür Merkezi,Tiyatro
ATTACH;FMTTYPE=image/jpeg:https://etkinlikdenizli.com/wp-content/uploads/2019/12/kurkmantolumadonna-1130x650.jpg
END:VEVENT
END:VCALENDAR