BEGIN:VCALENDAR
VERSION:2.0
PRODID:-//ETKİNLİK DENİZLİ - ECPv5.14.1//NONSGML v1.0//EN
CALSCALE:GREGORIAN
METHOD:PUBLISH
X-WR-CALNAME:ETKİNLİK DENİZLİ
X-ORIGINAL-URL:https://etkinlikdenizli.com
X-WR-CALDESC:ETKİNLİK DENİZLİ için etkinlikler
BEGIN:VTIMEZONE
TZID:Europe/Istanbul
BEGIN:STANDARD
TZOFFSETFROM:+0300
TZOFFSETTO:+0300
TZNAME:+03
DTSTART:20180101T000000
END:STANDARD
END:VTIMEZONE
BEGIN:VEVENT
DTSTART;VALUE=DATE:20181026
DTEND;VALUE=DATE:20181030
DTSTAMP:20260420T135056
CREATED:20181028T150755Z
LAST-MODIFIED:20181028T151741Z
UID:3959-1540512000-1540857599@etkinlikdenizli.com
SUMMARY:Pamukkale Belediyesi 1.Vosvos Festivali / 2018
DESCRIPTION:KARAHAYIT KENT ORMANI – PAMUKKALE BELEDİYESİ 1.VOSVOS FESTİVALİ\n\nSevgili vosvosa gönül vermiş dostlarımız; \nDen-vos olarak Denizli Pamukkale’de ilkini gerçekleştireceğimiz etkinlik programı şu şekildedir. \n26 Ekim Cuma günü başlayacak olan festival 29 Ekim Cumhuriyet Bayramı kutlamaları ve fener alayı ile son bulacaktır. \nFestival süresince giriş yapabilirsiniz\, Festivale girişler ücretsiz olup kamp alanımız büyük olduğu için yer sıkıntısı olmayacaktır. Çadır kurmak istemeyen vosvos sevenler için turizm beldesi olan otel pansiyon gibi şifalı suları ve sıcak havuzları olan termal tesislerde konaklayabilirler (Tesisler kamp alanına 50 m uzakliktadir)Araçlarının yanına çadır kurmak isteyen dostlarımız için ister ağaç altı ister açık alan gibi bir çok seçeneği olan yerlere çadırlarını kurabilirler\,elektirik için uzatma kablonuzun yanınızda olması yeterlidir. Sağlık ekibi kızılay kan aracı ve güvenlik festival boyunca görev yapacaktır.Temasi dostluk olan vosvoscular diye tabir edilen misafirlerimizi tanıştırmak kaynaştırmak öncelikli görevimizdir. \nFestival boyunca Pamukkale antik kenti gezisi\,konserler\,alışveriş standları\,halk oyunları\,doğa yürüyüşü\, şifalı kırmızı su gezisi \,voleybol turnuvası\,eğlenceli oyunlar\,2.el ve sıfır parça standlari\,bisikleti olanlar için bisiklet yolu\,sabah koşusu gibi etkinliklere katılabilirsiniz.\nKamp alanı karahayit çarşısına 100 m uzaklıktadır. Bütün ihtiyaçlarınızı buradan karşılayabilirsiniz. \nEtkinlik süresince Pamukkale belediyesinin desteği ile pamukkale manzaralı drone çekimi yapılacaktır. Ayrıca yamaç paraşütü yapmak isteyen adranalin tutkunu vosvos sevenler için tandem uçuşu sizlere özel indirimli olacaktır. Kahvaltilar ikramımızdır. Amacımız sizleri sadece eğlendirmek değil sizleri kendi evinizde hissetmenizi sağlamak\, Toplanmanın zor olduğu soğuk havalarda bile işte türkiye vosvoscuları burada birlikte ve kolkola olduğunu göstermek.Ayni zamanda büyüklerimizden özlediğimiz vosvos muhabbetlerini dinlemek…. \nIlk etkinligimizde sizleri burada misafir etmek ve sizleri buradan uğurlarken yüzünüzdeki tebessümü görmek bizlere en güzel mutluluğu yaşatacaktır.Umudum oki Tek çatı altında TÜRKVOS olarak bütün iller ile birlikte binlerce vosvos ile tek bir etkinlikte buluşmak Çünkü buna ihtiyacımız var. \nDen-vos Bşk.Önder ŞENTÜRK\n \nFacebook Etkinlik Linki: Pamukkale Belediyesi 1.Vosvos Festivali \nEtkinliğin Sosyal Medya Hesapları: Denizli Vosvos Kulübü Facebook Resmi Hesabı  \nBilet Fiyatı: ÜCRETSİZDİR.  \n\n\n\n \nGüncel Etkinlik Takviminden Haberdar Olmak İçin Facebook’ta Bizi Takip Edin.
URL:https://etkinlikdenizli.com/etkinlik/pamukkale-belediyesi-1-vosvos-festivali-2018/
LOCATION:Karahayıt Kent Ormanı\, 140. Yayla Sk. Karahayıt Mahallesi 20190 PAMUKKALE\, Denizli\, 20100\, Türkiye
CATEGORIES:Festival,Karahayıt Kent Ormanı
ATTACH;FMTTYPE=image/jpeg:https://etkinlikdenizli.com/wp-content/uploads/2018/10/wp1845351.jpg
END:VEVENT
END:VCALENDAR