BEGIN:VCALENDAR
VERSION:2.0
PRODID:-//ETKİNLİK DENİZLİ - ECPv5.14.1//NONSGML v1.0//EN
CALSCALE:GREGORIAN
METHOD:PUBLISH
X-WR-CALNAME:ETKİNLİK DENİZLİ
X-ORIGINAL-URL:https://etkinlikdenizli.com
X-WR-CALDESC:ETKİNLİK DENİZLİ için etkinlikler
BEGIN:VTIMEZONE
TZID:Europe/Istanbul
BEGIN:STANDARD
TZOFFSETFROM:+0300
TZOFFSETTO:+0300
TZNAME:+03
DTSTART:20180101T000000
END:STANDARD
END:VTIMEZONE
BEGIN:VEVENT
DTSTART;VALUE=DATE:20180418
DTEND;VALUE=DATE:20180419
DTSTAMP:20260420T133020
CREATED:20180416T194136Z
LAST-MODIFIED:20180416T194136Z
UID:3695-1524009600-1524095999@etkinlikdenizli.com
SUMMARY:PAÜ - BAHAR KONSERİ
DESCRIPTION:PAÜ HASAN KASAPOĞLU KÜLTÜR MERKEZİ – BAHAR KONSERİ\n \nKonserimize uygun olan herkesi bekliyoruz\, sınırlı sayıda ve ücretsiz olan davetiyelerinizi konser günü saat 13.00-16.00 arasında Devlet Tiyatrosu üniversite gişesinde kurulacak olan mobil deskten alabilirsiniz. \n*Vivaldi\n*Haydn\n*Tchaikovsky\n*Grieg \n*Gardel \n*Piazzolla\n*Anderson\n*Kander\n*Kondo Sun\n*Guliyev\n*Sevgi\n*Tuğcular \nFacebook Etkinlik Linki: PAÜ Hasan Kasapoğlu Kültür Merkezi – Bahar Konseri \nEtkinliğin Sosyal Medya Hesapları: Pamukkale Üniversitesi Gençlik Oda Orkestrası Facebook  \nBilet Fiyatı: ÜCRETSİZDİR. / Davetiyeleri konser günü 13.00 – 16.00 arasında Devlet Tiyatrosu üniversite gişesinden temin edebilirsiniz.  \n\n\n\n \nGüncel Etkinlik Takviminden Haberdar Olmak İçin Facebook’ta Bizi Takip Edin.
URL:https://etkinlikdenizli.com/etkinlik/pau-bahar-konseri/
LOCATION:Pamukkale Üniversitesi\, Denizli Pamukkale Üniversitesi Kongre ve Kültür Merkezi
CATEGORIES:Hasan Kasapoğlu Kültür Merkezi,Konser
ATTACH;FMTTYPE=image/jpeg:https://etkinlikdenizli.com/wp-content/uploads/2018/04/14224694_1378409825507206_6457052757578094289_n.jpg
END:VEVENT
END:VCALENDAR