BEGIN:VCALENDAR
VERSION:2.0
PRODID:-//ETKİNLİK DENİZLİ - ECPv5.14.1//NONSGML v1.0//EN
CALSCALE:GREGORIAN
METHOD:PUBLISH
X-WR-CALNAME:ETKİNLİK DENİZLİ
X-ORIGINAL-URL:https://etkinlikdenizli.com
X-WR-CALDESC:ETKİNLİK DENİZLİ için etkinlikler
BEGIN:VTIMEZONE
TZID:Europe/Istanbul
BEGIN:STANDARD
TZOFFSETFROM:+0300
TZOFFSETTO:+0300
TZNAME:+03
DTSTART:20200101T000000
END:STANDARD
END:VTIMEZONE
BEGIN:VEVENT
DTSTART;VALUE=DATE:20200221
DTEND;VALUE=DATE:20200222
DTSTAMP:20260420T041401
CREATED:20200207T200741Z
LAST-MODIFIED:20200207T200741Z
UID:5723-1582243200-1582329599@etkinlikdenizli.com
SUMMARY:Route - Bulutsuzluk Özlemi Konseri / 21.02.2018
DESCRIPTION:ROUTE DENİZLİ – BULUTSUZLUK ÖZLEMİ KONSERİ \n \n“1984’te kurulan\, çoğunlukla söz ve müzikleri Nejat Yavaşoğulları’nın yönetiminde “protest müzik” tarzında olan\, yola çıktıkları günden bugüne dolu dolu bir müzik mirası hazırlayan Türkiye’nin ilk Türkçe sözlü müzik yapan alternatif rock grubu Bulutsuzluk Özlemi\, Sözlerimi Geri Alamam\, Rüzgar\, Bağdat Kafe\, Yaşamaya Mecbursun\, Güneye Giderken\, Tepedeki Çimenlik\, Hasret gibi parçalarıyla Denizli’ye geliyor.”21 Şubat Cuma akşamı Route sahnesinde gerçekleştirilecek konserin kapı açılış saati: 20.30’dur. \nMüzisyenin Öne Çıkan Parçalarını Dinlemek İsterseniz; Bulutsuzluk Özlemi Youtube  \nFacebook Etkinlik Linki: Denizli Route – Bulutsuzluk Özlemi Konseri \nEtkinliğin Sosyal Medya Hesapları: Bulutsuzluk Özlemi Resmi Twitter Hesabı | Route Denizli Resmi Facebook Sayfası  \nBilet Fiyatı (Biletix): 50.00 TL \nBiletix Üzerinden Satın Almak İçin Tıklayın. \nSatış Noktaları: Route \nGüncel Etkinlik Takviminden Haberdar Olmak İçin Facebook’ta Bizi Takip Edin.
URL:https://etkinlikdenizli.com/etkinlik/route-bulutsuzluk-ozlemi-konseri-21-02-2018/
LOCATION:Route Denizli\, Çamlaraltı Mah. Çamlık Bulvarı No:41/A Denizli
CATEGORIES:Konser,Route
ATTACH;FMTTYPE=image/jpeg:https://etkinlikdenizli.com/wp-content/uploads/2020/01/bulutsuz.jpg
END:VEVENT
END:VCALENDAR