BEGIN:VCALENDAR
VERSION:2.0
PRODID:-//ETKİNLİK DENİZLİ - ECPv5.14.1//NONSGML v1.0//EN
CALSCALE:GREGORIAN
METHOD:PUBLISH
X-WR-CALNAME:ETKİNLİK DENİZLİ
X-ORIGINAL-URL:https://etkinlikdenizli.com
X-WR-CALDESC:ETKİNLİK DENİZLİ için etkinlikler
BEGIN:VTIMEZONE
TZID:Europe/Istanbul
BEGIN:STANDARD
TZOFFSETFROM:+0300
TZOFFSETTO:+0300
TZNAME:+03
DTSTART:20190101T000000
END:STANDARD
END:VTIMEZONE
BEGIN:VEVENT
DTSTART;VALUE=DATE:20190712
DTEND;VALUE=DATE:20190713
DTSTAMP:20260420T133058
CREATED:20190707T155449Z
LAST-MODIFIED:20190728T133515Z
UID:4832-1562889600-1562975999@etkinlikdenizli.com
SUMMARY:Route - Cem Adrian Konseri / 12.07.2019 - ERTELENDİ
DESCRIPTION:ROUTE DENİZLİ – CEM ADRİAN KONSERİ\n\n2005 yılında çıkan ilk albümü  “Ben Bu Şarkıyı Sana Yazdım” ile hayatımıza giren ve günümüze kadar çıkardığı albümler\, yaptığı düetler ve yorumladığı şarkılarla gündemden düşmeyen Cem Adrian\, Sen Gel Diyorsun\, sarı gelin\, herkes gider mi\, yağmur\, ben seni çok sevdim\, ne ağlarsın\, dostum\, mutlu yıllar\, her şey seninle güzel gibi şarkılarıyla 12 Temmuz 2019 cuma akşamı Denizli Route sahnesinde sevenleriyle buluşuyor. Kapı açılış 21.30’da.  \nDİKKAT: Etkinlik 31 Temmuz 2019 Tarihine Ertelendi… \n \nMüzisyenin Öne Çıkan Parçalarını Dinlemek İsterseniz; Cem Adrian Youtube  \nFacebook Etkinlik Linki: Denizli Route – Cem Adrian Konseri \nEtkinliğin Sosyal Medya Hesapları: Cem Adrian Resmi Twitter Hesabı | Route Denizli Resmi Facebook Sayfası \nBilet Fiyatı: 67.25 TL (BiletX) \n“*Etkinliklerimizde 18 yaş sınırı vardır.\n*Konser düzeni ayaktadır.\n*Loca ve Bistro için rezervasyon: 0258 211 0 345″ \nBiletX Üzerinden Bilet Satın Almak İçin: BiletX Bilet Satın Alma Sayfası | Diğer Satış Noktaları; Route  \n\n\n\n \nGüncel Etkinlik Takviminden Haberdar Olmak İçin Facebook’ta Bizi Takip Edin.
URL:https://etkinlikdenizli.com/etkinlik/route-cem-adrian-konseri-12-07-2019/
LOCATION:Route Denizli\, Çamlaraltı Mah. Çamlık Bulvarı No:41/A Denizli
CATEGORIES:Konser,Route
ATTACH;FMTTYPE=image/jpeg:https://etkinlikdenizli.com/wp-content/uploads/2019/02/cem-adrian.jpg
END:VEVENT
END:VCALENDAR