BEGIN:VCALENDAR
VERSION:2.0
PRODID:-//ETKİNLİK DENİZLİ - ECPv5.14.1//NONSGML v1.0//EN
CALSCALE:GREGORIAN
METHOD:PUBLISH
X-WR-CALNAME:ETKİNLİK DENİZLİ
X-ORIGINAL-URL:https://etkinlikdenizli.com
X-WR-CALDESC:ETKİNLİK DENİZLİ için etkinlikler
BEGIN:VTIMEZONE
TZID:Europe/Istanbul
BEGIN:STANDARD
TZOFFSETFROM:+0300
TZOFFSETTO:+0300
TZNAME:+03
DTSTART:20200101T000000
END:STANDARD
END:VTIMEZONE
BEGIN:VEVENT
DTSTART;VALUE=DATE:20200404
DTEND;VALUE=DATE:20200405
DTSTAMP:20260419T161230
CREATED:20200315T191122Z
LAST-MODIFIED:20200324T105332Z
UID:6173-1585958400-1586044799@etkinlikdenizli.com
SUMMARY:Route - Feridun Düzağaç Konseri / Ertelendi
DESCRIPTION:ROUTE DENİZLİ – FERİDUN DÜZAĞAÇ KONSERİ \n \nETKİNLİK GÜNDEMDEKİ SAĞLIK PROBLEMLERİNDEN DOLAYI İLERİ BİR TARİHE ERTELENMİŞTİR.\nMüzik serüvenine üniversite yıllarında arkadaşlarıyla amatörce başlayan akabinde Tını grubunun solisti olarak insanların karşısına çıkan\, 1988 yılı itibariyle Tını grubuyla şarkı yazmaya başlayan\, ilk bestesi Özdemir Asaf’ın Lavinya’sı ile büyük ses getiren ve geçmişten günümüze 9 başarılı albüme imza atan Feridun Düzağaç\, Beni Bırakma\, düşler sokağı\, söz ver\, FD\, Boş Ders gibi şarkılarıyla Denizli’ye geliyor. 4 Nisan 2020 akşamı Route sahnesinde gerçekleştirilecek olan konserin başlama saati: 22.30’dur.  \nMüzisyenin Öne Çıkan Parçalarını Dinlemek İsterseniz; Feridun Düzağaç Youtube  \nFacebook Etkinlik Linki: Denizli Route – Feridun Düzağaç Konseri \nEtkinliğin Sosyal Medya Hesapları: Feridun Düzağaç Resmi Facebook Hesabı | Route Denizli Resmi Facebook Sayfası  \nBilet Fiyatı (Biletix): 60.00 TL \nBiletix’ten satın almak için tıklayın.   \nİletişim: 0554 544 33 09 \nGüncel Etkinlik Takviminden Haberdar Olmak İçin Facebook’ta Bizi Takip Edin.
URL:https://etkinlikdenizli.com/etkinlik/route-feridun-duzagac-konseri-ertelendi/
LOCATION:Route Denizli\, Çamlaraltı Mah. Çamlık Bulvarı No:41/A Denizli
CATEGORIES:Konser,Route
ATTACH;FMTTYPE=image/jpeg:https://etkinlikdenizli.com/wp-content/uploads/2020/03/feridun-duzagac-o-yazari-affetmedi.jpg
END:VEVENT
END:VCALENDAR