BEGIN:VCALENDAR
VERSION:2.0
PRODID:-//ETKİNLİK DENİZLİ - ECPv5.14.1//NONSGML v1.0//EN
CALSCALE:GREGORIAN
METHOD:PUBLISH
X-WR-CALNAME:ETKİNLİK DENİZLİ
X-ORIGINAL-URL:https://etkinlikdenizli.com
X-WR-CALDESC:ETKİNLİK DENİZLİ için etkinlikler
BEGIN:VTIMEZONE
TZID:Europe/Istanbul
BEGIN:STANDARD
TZOFFSETFROM:+0300
TZOFFSETTO:+0300
TZNAME:+03
DTSTART:20190101T000000
END:STANDARD
END:VTIMEZONE
BEGIN:VEVENT
DTSTART;VALUE=DATE:20190316
DTEND;VALUE=DATE:20190317
DTSTAMP:20260420T134947
CREATED:20190303T144552Z
LAST-MODIFIED:20190303T144621Z
UID:4525-1552694400-1552780799@etkinlikdenizli.com
SUMMARY:Route – Kahraman Deniz Konseri / 16.03.2019
DESCRIPTION:ROUTE – DENİZLİ KAHRAMAN DENİZ KONSERİ \n \nSon dönemin en iyi çıkış yapan ve popülerlik kazanan isimlerinden Kahraman Deniz 16 Mart Cumartesi günü Denizli Route sahnesinde… \n“Suç Mahalli”\, “Sevsem”\, “Böyle Sever”\, “Garezi Var” gibi parçalarıyla artık her yerde duymaya başladığımız\, ortamlarda şarkılarını mırıldanınca herkesin eşlik ettiği Kahraman Deniz\, bazen sakinleştirici\, bazen kederlendirme etkisi gösteren parçalarını bizler için söylemeye geliyor. Artık kendimize saklama çabalarımız sona erdi bile… \nMüzisyenin Öne Çıkan Parçalarını Dinlemek İsterseniz; Kahraman Deniz Youtube  \nFacebook Etkinlik Linki: Route Denizli – Kahraman Deniz Konseri \nEtkinliğin Sosyal Medya Hesapları: Kahraman Deniz Resmi Twitter Hesabı  \nBiletx Fiyatı: Ayakta – 40.00 TL (Biletx için tıklayın…) \nSatış Noktaları; —-\n \n\n\n\n \nGüncel Etkinlik Takviminden Haberdar Olmak İçin Facebook’ta Bizi Takip Edin.
URL:https://etkinlikdenizli.com/etkinlik/route-kahraman-deniz-konseri-16-03-2019/
LOCATION:Route Denizli\, Çamlaraltı Mah. Çamlık Bulvarı No:41/A Denizli
CATEGORIES:Konser,Route
ATTACH;FMTTYPE=image/jpeg:https://etkinlikdenizli.com/wp-content/uploads/2019/03/maxresdefault.jpg
END:VEVENT
END:VCALENDAR