BEGIN:VCALENDAR
VERSION:2.0
PRODID:-//ETKİNLİK DENİZLİ - ECPv5.14.1//NONSGML v1.0//EN
CALSCALE:GREGORIAN
METHOD:PUBLISH
X-WR-CALNAME:ETKİNLİK DENİZLİ
X-ORIGINAL-URL:https://etkinlikdenizli.com
X-WR-CALDESC:ETKİNLİK DENİZLİ için etkinlikler
BEGIN:VTIMEZONE
TZID:Europe/Istanbul
BEGIN:STANDARD
TZOFFSETFROM:+0300
TZOFFSETTO:+0300
TZNAME:+03
DTSTART:20200101T000000
END:STANDARD
END:VTIMEZONE
BEGIN:VEVENT
DTSTART;VALUE=DATE:20200711
DTEND;VALUE=DATE:20200712
DTSTAMP:20260420T120931
CREATED:20200710T004655Z
LAST-MODIFIED:20200811T044132Z
UID:6279-1594425600-1594511999@etkinlikdenizli.com
SUMMARY:Route - Necati ve Saykolar Konseri / 11.07.2020
DESCRIPTION:ROUTE DENİZLİ – NECATİ VE SAYKOLAR KONSERİ DENİZLİ\n\n2008 yılında Necati Karadayı (bağlama\, vokal) ve Alper Kayman (elektro gitar\, vokal) tarafından Denizli’de kurulan Rock müzik tabanlı interaktif performans grubu Necati ve Saykolar daha sonra aralarına Barış Şanlısoy (bas gitar) ve Serhat Ergür’ü (davul) de alarak yollarına devam ettiler. Cem Karaca\, Barış Manço gibi dönemin ünlü isimlerinden etkilenen grup yaptıkları müzikal performansla farklı bir yol izleyerek\, ilerleyen zamanlarda bu tarzı daha da geliştirip 2014 Haziran’da ilk abümleri “Dur\, Bak\, Dinle\, Geç” yayınlandı. Müzik ve eğlenceyi bir arada sunan grup doğaçlama repliklerle Anadolu Rock müzik tarzını harmanlayarak isimlerinden sıkça söz ettirdiler. 2017’de ikinci albümleri “Mütemadiyen”i çıkaran grup geniş kitelelere ulaşmıştır. Hayko Cepkin’le sık sık sahnelerde birlikte yer alan Necati ve Saykolar’ın son albümlerinin Prodüktörlüğünü ve Aranjörlüğünü Hayko Cepkin yapmıştır. \nGrubun bazı şarkıları; fırtına\, hiç ses yok\, özlem\, soru sorma\, dırdır\, bir varmış bir yokmuş\,usta\, mütemadiyen’dir. Necati ve Saykolar 11 Temmuz Cumartesi akşamı konserlerini gerçekleştirmek üzere Route sahnesinde olacak. \nGrubun Öne Çıkan Parçalarını Dinlemek İsterseniz; Necati ve Saykolar Youtube  \nFacebook Etkinlik Linki: Denizli Route – Necati ve Saykolar Konseri \nEtkinliğin Sosyal Medya Hesapları: Necati ve Saykolar Resmi Instagram Hesabı | Route Denizli Resmi Facebook Sayfası  \nBilet Fiyatı: 40 TL (200 Kişi ile Sınırlı Masa Düzeni) \n Bilet Satış Noktaları; Route | Analog Plak | Baykuş Kafe  \nGüncel Etkinlik Takviminden Haberdar Olmak İçin Facebook’ta Bizi Takip Edin.
URL:https://etkinlikdenizli.com/etkinlik/route-necati-ve-saykolar-konseri-11-07-2020/
LOCATION:Route Denizli\, Çamlaraltı Mah. Çamlık Bulvarı No:41/A Denizli
CATEGORIES:Konser,Route
ATTACH;FMTTYPE=image/png:https://etkinlikdenizli.com/wp-content/uploads/2020/07/necatiiZSG12.png
END:VEVENT
END:VCALENDAR