BEGIN:VCALENDAR
VERSION:2.0
PRODID:-//ETKİNLİK DENİZLİ - ECPv5.14.1//NONSGML v1.0//EN
CALSCALE:GREGORIAN
METHOD:PUBLISH
X-WR-CALNAME:ETKİNLİK DENİZLİ
X-ORIGINAL-URL:https://etkinlikdenizli.com
X-WR-CALDESC:ETKİNLİK DENİZLİ için etkinlikler
BEGIN:VTIMEZONE
TZID:Europe/Istanbul
BEGIN:STANDARD
TZOFFSETFROM:+0300
TZOFFSETTO:+0300
TZNAME:+03
DTSTART:20190101T000000
END:STANDARD
END:VTIMEZONE
BEGIN:VEVENT
DTSTART;VALUE=DATE:20190110
DTEND;VALUE=DATE:20190111
DTSTAMP:20260421T003611
CREATED:20190103T145322Z
LAST-MODIFIED:20190103T182100Z
UID:4303-1547078400-1547164799@etkinlikdenizli.com
SUMMARY:Sentez Kültür - Erkan Oğur & İsmail Hakkı Demircioğlu / 10.01.2019
DESCRIPTION:SENTEZ KÜLTÜR – ERKAN OĞUR & İSMAİL HAKKI DEMİRCİOĞLU KONSERİ \n \n“Türk halk müziğinin iki usta ismi Erkan Oğur ve İsmail Hakkı Demircioğlu\, 10 Ocak’ta Denizli Baro Lokali Sentez Kültür Merkezi  sahnesinde… \nErkan Oğur ve İsmail Hakkı Demircioğlu\, çoğu eski\, bazıları ise çok eski Anadolu türkülerinden oluşan bir repertuvarı seslendiriyorlar. Bu nedenle\, kendi ifadeleriyle\, performanslarını “bir birlikte hatırlama çabası” olarak görüyorlar. Düo formatında gerçekleştirdikleri\, benzersiz ve ustalıklı türkü yorumları\, Türk halk müziğinde yeni bir tarzın doğuşuna yol açıyor.” 10 Ocak 2019 Perşembe akşamı Sentez Kültür Merkezi sahnesinde gerçekleştirilecek konserin kapı açılış saati: 20.00’dir. \nMüzisyenin Öne Çıkan Parçalarını Dinlemek İsterseniz: Erkan Oğur Youtube | İsmail Hakkı Demircioğlu Youtube \nFacebook Etkinlik Linki: —- \nEtkinliğin Sosyal Medya Hesapları: Sentez Kültür Merkezi Resmi Facebook Sayfası \nBilet Fiyatı:  \nBiletX Satış Fiyatı: 67\,25 TL’dir.  \nBiletX Üzerinden Bilet Satın Almak İçin: BiletX Bilet Satın Alma Sayfası | Diğer Satış Noktaları; Baykuş Kafe  \n\n\n\n\n \nGüncel Etkinlik Takviminden Haberdar Olmak İçin Facebook’ta Bizi Takip Edin.
URL:https://etkinlikdenizli.com/etkinlik/sentez-kultur-erkan-ogur-ismail-hakki-demircioglu-10-01-2019/
LOCATION:Sentez Kültür Merkezi\, Adalet Mahallesi\, Fatih Sultan Mehmet Cd. No:3/A\, Merkezefendi\, Denizli\, 20100\, Türkiye
CATEGORIES:Sentez Kültür
ATTACH;FMTTYPE=image/jpeg:https://etkinlikdenizli.com/wp-content/uploads/2019/01/erkan-ogur.jpg
ORGANIZER;CN="DarkNight%20%281877pm%29%20Organizasyon":MAILTO:info@1877.com
END:VEVENT
END:VCALENDAR