BEGIN:VCALENDAR
VERSION:2.0
PRODID:-//ETKİNLİK DENİZLİ - ECPv5.14.1//NONSGML v1.0//EN
CALSCALE:GREGORIAN
METHOD:PUBLISH
X-WR-CALNAME:ETKİNLİK DENİZLİ
X-ORIGINAL-URL:https://etkinlikdenizli.com
X-WR-CALDESC:ETKİNLİK DENİZLİ için etkinlikler
BEGIN:VTIMEZONE
TZID:Europe/Istanbul
BEGIN:STANDARD
TZOFFSETFROM:+0300
TZOFFSETTO:+0300
TZNAME:+03
DTSTART:20170101T000000
END:STANDARD
END:VTIMEZONE
BEGIN:VEVENT
DTSTART;VALUE=DATE:20170505
DTEND;VALUE=DATE:20170506
DTSTAMP:20260420T120931
CREATED:20170501T225459Z
LAST-MODIFIED:20170501T225459Z
UID:3292-1493942400-1494028799@etkinlikdenizli.com
SUMMARY:TELVE Brasserie - Suavi Konseri / 05.05.2017
DESCRIPTION:DENİZLİ TELVE BRASSERİE – SUAVİ KONSERİ\n \nMüzik hayatı 60lı yılların sonunda başlayan\, 1994 yılında da TRT’de Altın Anten yarışmasında “Yalıçapkını” isimli eseriyle birinci olduktan sonra dikkatleri üzerine çeken\,  Nazım Hikmet\, Ahmed Arif\, Hasan Hüseyin Korkmazgil gibi önemli isimlerin şiirlerini besteleyerek kendine has bir dinleyici kitlesi oluşturan ve günümüze kadar 7 albüme imza atan Suavi\, hasret türküsü\, drama köprüsü\, aşk bize küstü\, tükenme\, bilmelisin\, deniz üstü köpürür gibi şarkılarıyla Denizli’ye geliyor. 05 Mayıs 2017 akşamı Telve sahnesinde gerçekleştirilecek olan konserin kapı açılış saati 22.00’dir.  \nMüzisyenin Öne Çıkan Parçalarını Dinlemek İsterseniz; Suavi Youtube  \nFacebook Etkinlik Linki: Denizli Telve – Suavi Konseri \nEtkinliğin Sosyal Medya Hesapları: Suavi Resmi Twitter Hesabı | Telve Resmi Facebook Sayfası  \nBilet Fiyatı: 50\,00 TL  \nSatış Noktaları; Denizli Telve  \n\n\n\n \nGüncel Etkinlik Takviminden Haberdar Olmak İçin Facebook’ta Bizi Takip Edin.
URL:https://etkinlikdenizli.com/etkinlik/telve-brasserie-suavi-konseri-05-05-2017/
LOCATION:TELVE Brasserie & Grill\, Demirciler Cd. No:12\, Denizli\, Türkiye
CATEGORIES:Konser,Telve Bar
ATTACH;FMTTYPE=image/jpeg:https://etkinlikdenizli.com/wp-content/uploads/2017/05/maxresdefault.jpg
END:VEVENT
END:VCALENDAR